BEGIN:VCALENDAR
VERSION:2.0
PRODID:-//ChamberMaster//Event Calendar 2.0//EN
METHOD:PUBLISH
X-PUBLISHED-TTL:P1H
REFRESH-INTERVAL:P1H
CALSCALE:GREGORIAN
BEGIN:VTIMEZONE
TZID:America/New_York
BEGIN:DAYLIGHT
RRULE:FREQ=YEARLY;BYMONTH=3;BYDAY=2SU
DTSTART:20070101T000000
TZOFFSETFROM:-0500
TZOFFSETTO:-0400
TZNAME:Eastern Daylight Time
END:DAYLIGHT
BEGIN:STANDARD
RRULE:FREQ=YEARLY;BYMONTH=11;BYDAY=1SU
DTSTART:20070101T000000
TZOFFSETFROM:-0400
TZOFFSETTO:-0500
TZNAME:Eastern Standard Time
END:STANDARD
END:VTIMEZONE
BEGIN:VEVENT
DTSTART;TZID=America/New_York:20260429T173000
DTEND;TZID=America/New_York:20260429T193000
X-MICROSOFT-CDO-ALLDAYEVENT:FALSE
SUMMARY:Business After Hours – Presented by MV Museum\, The Steamship Authority\, & Art Cliff Diner
DESCRIPTION:Join us for a special Business After Hours\, presented by MV Museum\, The Steamship Authority\, and Art Cliff Diner\, on Wednesday\, April 29. \n\nSituated on the Museum's stunning waterfront\, this event offers a wonderful opportunity to connect with fellow members\, build new relationships\, and enjoy an evening in one of the Island's most unique and inspiring spaces. \n\nGuests will gather in the Linnemann Pavilion\, where they can enjoy delicious bites and beverages provided by Art Cliff Diner (Gina Stanley)\, who also operates the Museum's caf . \n\nPlease note that parking at the Museum is limited to approximately 50 cars. We kindly encourage guests to carpool or walk from nearby areas in Vineyard Haven whenever possible. \n\nWe look forward to an evening of networking\, conversation\, and community!
X-ALT-DESC;FMTTYPE=text/html:<!DOCTYPE html><html><head><title></title></head><body aria-disabled="false"><p>Join us for a special Business After Hours\, presented by MV Museum\, The Steamship Authority\, and Art Cliff Diner\, on Wednesday\, April 29. <br><br>Situated on the Museum&rsquo\;s stunning waterfront\, this event offers a wonderful opportunity to connect with fellow members\, build new relationships\, and enjoy an evening in one of the Island&rsquo\;s most unique and inspiring spaces. <br><br>Guests will gather in the Linnemann Pavilion\, where they can enjoy delicious bites and beverages provided by Art Cliff Diner (Gina Stanley)\, who also operates the Museum&rsquo\;s caf&eacute\;. <br><br>Please note that parking at the Museum is limited to approximately 50 cars. We kindly encourage guests to carpool or walk from nearby areas in Vineyard Haven whenever possible. <br><br>We look forward to an evening of networking\, conversation\, and community!</p></body></html>
LOCATION:151 Lagoon Pond Rd Vineyard Haven MA 02568
UID:e.3051.1443691
SEQUENCE:3
DTSTAMP:20260423T215008Z
URL:https://business.mvy.com/eventcalendar/Details/business-after-hours-presented-by-mv-museum-the-steamship-authority-art-cliff-diner-1709920?sourceTypeId=Hub
END:VEVENT
END:VCALENDAR
