BEGIN:VCALENDAR
VERSION:2.0
PRODID:-//ChamberMaster//Event Calendar 2.0//EN
METHOD:PUBLISH
X-PUBLISHED-TTL:P1H
REFRESH-INTERVAL:P1H
CALSCALE:GREGORIAN
BEGIN:VTIMEZONE
TZID:America/New_York
BEGIN:DAYLIGHT
RRULE:FREQ=YEARLY;BYMONTH=3;BYDAY=2SU
DTSTART:20070101T000000
TZOFFSETFROM:-0500
TZOFFSETTO:-0400
TZNAME:Eastern Daylight Time
END:DAYLIGHT
BEGIN:STANDARD
RRULE:FREQ=YEARLY;BYMONTH=11;BYDAY=1SU
DTSTART:20070101T000000
TZOFFSETFROM:-0400
TZOFFSETTO:-0500
TZNAME:Eastern Standard Time
END:STANDARD
END:VTIMEZONE
BEGIN:VEVENT
DTSTART;TZID=America/New_York:20260523T100000
DTEND;TZID=America/New_York:20260524T140000
X-MICROSOFT-CDO-ALLDAYEVENT:FALSE
SUMMARY:Martha’s Vineyard Garden Club Annual Plant Sale
DESCRIPTION:Garden Club Spring Plant Sale Celebrate the season with us and discover a wonderful selection of plants grown and selected by our members. From colorful perennials and herbs to unique garden favorites\, you'll find something special to bring home to your garden. Your purchase supports the programs\, education\, and beautification projects of our Garden Club. Come browse\, ask questions\, and enjoy a morning surrounded by plants and fellow garden lovers.
X-ALT-DESC;FMTTYPE=text/html:<!DOCTYPE html><html><head><title></title></head><body aria-disabled="false"><p>Garden Club Spring Plant Sale Celebrate the season with us and discover a wonderful selection of plants grown and selected by our members. From colorful perennials and herbs to unique garden favorites\, you&rsquo\;ll find something special to bring home to your garden. Your purchase supports the programs\, education\, and beautification projects of our Garden Club. Come browse\, ask questions\, and enjoy a morning surrounded by plants and fellow garden lovers.</p></body></html>
LOCATION:690 Edgartown-West Tisbury Road West Tisbury MA 02575
UID:e.3051.1425476
SEQUENCE:3
DTSTAMP:20260423T214938Z
URL:https://business.mvy.com/eventcalendar/Details/martha-s-vineyard-garden-club-annual-plant-sale-1685570?sourceTypeId=Hub
END:VEVENT
END:VCALENDAR
