BEGIN:VCALENDAR
VERSION:2.0
PRODID:-//ChamberMaster//Event Calendar 2.0//EN
METHOD:PUBLISH
X-PUBLISHED-TTL:P1H
REFRESH-INTERVAL:P1H
CALSCALE:GREGORIAN
BEGIN:VTIMEZONE
TZID:America/New_York
BEGIN:DAYLIGHT
RRULE:FREQ=YEARLY;BYMONTH=3;BYDAY=2SU
DTSTART:20070101T000000
TZOFFSETFROM:-0500
TZOFFSETTO:-0400
TZNAME:Eastern Daylight Time
END:DAYLIGHT
BEGIN:STANDARD
RRULE:FREQ=YEARLY;BYMONTH=11;BYDAY=1SU
DTSTART:20070101T000000
TZOFFSETFROM:-0400
TZOFFSETTO:-0500
TZNAME:Eastern Standard Time
END:STANDARD
END:VTIMEZONE
BEGIN:VEVENT
DTSTART;TZID=America/New_York:20260426T080000
DTEND;TZID=America/New_York:20260503T170000
X-MICROSOFT-CDO-ALLDAYEVENT:FALSE
SUMMARY:Mother's Day Mini Sessions at Dr. Daniel Fisher's Gardens
DESCRIPTION:Mother’s Day Spring Mini Sessions\nOnly on April 26th & May 3rd\, I’m offering exclusive Mother’s Day mini sessions at the beautiful historic grounds of the Dr. Daniel Fisher House in Edgartown.\nWhether you’re celebrating motherhood\, updating your family photos\, or simply want to freeze this season of life—this is for you.\n✨ 20 minute session\n✨ 10 beautifully retouched images\n✨ Private online gallery\n🌿 Date: Friday\, April\n📍 Edgartown\, Martha’s Vineyard\n💰 Investment: Starting at $225
X-ALT-DESC;FMTTYPE=text/html:Mother’s Day Spring Mini Sessions\nOnly on April 26th & May 3rd\, I’m offering exclusive Mother’s Day mini sessions at the beautiful historic grounds of the Dr. Daniel Fisher House in Edgartown.\nWhether you’re celebrating motherhood\, updating your family photos\, or simply want to freeze this season of life—this is for you.\n✨ 20 minute session\n✨ 10 beautifully retouched images\n✨ Private online gallery\n🌿 Date: Friday\, April\n📍 Edgartown\, Martha’s Vineyard\n💰 Investment: Starting at $225
LOCATION:99 Main Street Edgartown MA
UID:e.3051.1446638
SEQUENCE:3
DTSTAMP:20260423T215510Z
URL:https://business.mvy.com/eventcalendar/Details/mother-s-day-mini-sessions-at-dr-daniel-fisher-s-gardens-1713412?sourceTypeId=Hub
END:VEVENT
END:VCALENDAR
